BEGIN:VCALENDAR
VERSION:2.0
PRODID:icalendar-ruby
CALSCALE:GREGORIAN
BEGIN:VEVENT
DTSTAMP:20260421T013229Z
UID:occurrence-1015@events.pdxhackerspace.org
DTSTART:20260424T160000
DTEND:20260425T000000
DESCRIPTION:Major renovation on section 1\n\nFriday 9AM\n- Small crew for p
 rep\n- Remove electrical conduit\n- remove interior finish of lower wall\n
 - buy supplies (probably 10-12AM)\n\nFriday 12PM\n- More hands needed\, bu
 t limited concurrent work possible\n- remove upper windows\, preserving th
 e glass if possible\n- remove the broken window if time permits\n- tarp th
 e opening overnight\n\nFriday evening: we'll yell here if we need extra ha
 nds to get the building secured overnight.\n\n"Mother do you think they'll
  drop the bomb?"\n\nEvent page: https://events.pdxhackerspace.org/occurren
 ces/tear-down-the-wall-2026-04-24
SUMMARY:Tear Down The Wall
URL;VALUE=URI:https://events.pdxhackerspace.org/occurrences/tear-down-the-w
 all-2026-04-24
END:VEVENT
END:VCALENDAR
