BEGIN:VCALENDAR
VERSION:2.0
PRODID:icalendar-ruby
CALSCALE:GREGORIAN
BEGIN:VEVENT
DTSTAMP:20260419T134435Z
UID:occurrence-1014@events.pdxhackerspace.org
DTSTART:20260919T210000
DTEND:20260920T000000
DESCRIPTION:Everyone is welcome. Bring: yourself\, your friends & curiosity
 ! Loaner tools and basic locks are provided. If you have some cool locks o
 r tools you want to show off\, bring those too!\n\nWe pick locks because m
 echanical puzzles are fun. Learning about locks also helps us make more in
 formed decisions about the security hardware we purchase and install.\n\nE
 vent page: https://events.pdxhackerspace.org/occurrences/locksport-meetup-
 2026-09-19
LOCATION:Section 2
SUMMARY:Locksport Meetup
URL;VALUE=URI:https://events.pdxhackerspace.org/occurrences/locksport-meetu
 p-2026-09-19
END:VEVENT
END:VCALENDAR
