BEGIN:VCALENDAR
VERSION:2.0
PRODID:icalendar-ruby
CALSCALE:GREGORIAN
BEGIN:VEVENT
DTSTAMP:20260423T143929Z
UID:occurrence-1017@events.pdxhackerspace.org
DTSTART:20260528T013000
DTEND:20260528T053000
DESCRIPTION:Event page: https://events.pdxhackerspace.org/occurrences/explo
 it-workshop-2026-05-27
LOCATION:Section 2
SUMMARY:Exploit Workshop
URL;VALUE=URI:https://events.pdxhackerspace.org/occurrences/exploit-worksho
 p-2026-05-27
END:VEVENT
END:VCALENDAR
