BEGIN:VCALENDAR
VERSION:2.0
PRODID:icalendar-ruby
CALSCALE:GREGORIAN
BEGIN:VEVENT
DTSTAMP:20260421T014153Z
UID:occurrence-1016@events.pdxhackerspace.org
DTSTART:20260426T170000
DTEND:20260427T000000
DESCRIPTION:Picking up where Saturday left off.\n\nSunday 10AM:\nhopefully 
 smaller crew\,  would be great to have extra folks on call\n- finish up\n
 - caulk\n- cleanup\n\nOn call:\nif you can't plan to be at the space the w
 hole time\, but are available if we need extra hands for a little bit\, le
 t us know we can call you.\n\nAfter sunday:\n- plan tbd once the big stuff
  is done\n- exterior paint\n- Insulation\n- interior wall\n- interior pain
 t\n\n"Mother did it need to be so high?"\n\nEvent page: https://events.pdx
 hackerspace.org/occurrences/build-a-wall-part-2-2026-04-26
SUMMARY:Build A Wall (Part 2)
URL;VALUE=URI:https://events.pdxhackerspace.org/occurrences/build-a-wall-pa
 rt-2-2026-04-26
END:VEVENT
END:VCALENDAR
