BEGIN:VCALENDAR
VERSION:2.0
PRODID:icalendar-ruby
CALSCALE:GREGORIAN
METHOD:PUBLISH
BEGIN:VEVENT
DTSTAMP:20260421T013449Z
UID:8b3cefe6-0f44-4ad5-8c32-41ca53f5a96c
DTSTART:20260426T100000
DTEND:20260426T170000
DESCRIPTION:Picking up where Saturday left off.\n\nSunday 10AM:\nhopefully 
 smaller crew\,  would be great to have extra folks on call\n- finish up\n
 - caulk\n- cleanup\n\nOn call:\nif you can't plan to be at the space the w
 hole time\, but are available if we need extra hands for a little bit\, le
 t us know we can call you.\n\nAfter sunday:\n- plan tbd once the big stuff
  is done\n- exterior paint\n- Insulation\n- interior wall\n- interior pain
 t\n\n"Mother did it need to be so high?"
STATUS:ACTIVE
SUMMARY:Build A Wall (Part 2)
END:VEVENT
END:VCALENDAR
