BEGIN:VCALENDAR
VERSION:2.0
PRODID:icalendar-ruby
CALSCALE:GREGORIAN
METHOD:PUBLISH
BEGIN:VEVENT
DTSTAMP:20260421T013357Z
UID:9f4fbbd0-d556-4f4d-be16-fafe52607123
DTSTART:20260424T090000
DTEND:20260424T170000
DESCRIPTION:Major renovation on section 1\n\nFriday 9AM\n- Small crew for p
 rep\n- Remove electrical conduit\n- remove interior finish of lower wall\n
 - buy supplies (probably 10-12AM)\n\nFriday 12PM\n- More hands needed\, bu
 t limited concurrent work possible\n- remove upper windows\, preserving th
 e glass if possible\n- remove the broken window if time permits\n- tarp th
 e opening overnight\n\nFriday evening: we'll yell here if we need extra ha
 nds to get the building secured overnight.\n\n"Mother do you think they'll
  drop the bomb?"
STATUS:ACTIVE
SUMMARY:Tear Down The Wall
END:VEVENT
END:VCALENDAR
